BEGIN:VCALENDAR
VERSION:2.0
X-WR-TIMEZONE:Europe/Paris
PRODID:-//Audencia//NONSGML v1.0//EN
CALSCALE:GREGORIAN
BEGIN:VEVENT
SUMMARY:Club Activités Culturelles - Visite guidée - Île Saint Louis
DTSTART:20220409T110000
DTEND:20220409T123000
UID:1151
DTSTAMP:20260425T211127
LOCATION:Île Saint-Louis Paris
DESCRIPTION:Le Club Activités Culturelles organise une visite guidée de l'Île Saint Louis le samedi 9 avril à 11h.\n\nCe joyau de l'architecture parisienne des années 1640 abrite les hôtels les plus prestigieux de la capitale. Son histoire illustre aussi la vie de ses habitants, financiers et investisseurs qui s'enrichirent durant la minorité de Louis XIV. Il n'empêche que leur goût était novateur et sûr. En effet, le choix de leurs architectes et décorateurs en témoigne. Cette promenade vous fera pénétrer dans les secrets de cette île, quelques cours intérieur, un jeu de Paume, des cafés célèbres.\n \n\nPlaces limitées, inscriptions obligatoires et n'oubliez pas le passe sanitaire !\n\n\n \n\nQuestions : nushad.merchant@audencia.com
BEGIN:VALARM
ACTION:DISPLAY
TRIGGER:-PT60M
DESCRIPTION:Club Activités Culturelles - Visite guidée - Île Saint Louis
END:VALARM
END:VEVENT
END:VCALENDAR