BEGIN:VCALENDAR
VERSION:2.0
X-WR-TIMEZONE:Europe/Paris
PRODID:-//Audencia//NONSGML v1.0//EN
CALSCALE:GREGORIAN
BEGIN:VEVENT
SUMMARY:Club Activités Culturelles - Visite guidée - La Montagne Sainte Geneviève
DTSTART:20220312T110000
DTEND:20220312T123000
UID:1150
DTSTAMP:20260425T210210
LOCATION:Paris
DESCRIPTION:Le Club Activités Culturelles organise une visite guidée "La montagne Sainte Geneviève" le samedi 12 mars à 11h.\n \n\nCette visite vous mènera sur le chemin des écoliers au temps de François Villon. Nous découvrirons les thermes et le collège de Cluny, la Sorbonne et le collège de France. Puis nous arpenterons les ruelles menant de l'école Polytechnique aux abords du quartier Mouffetard. La vie quotidienne des écoliers vous sera évoquée, ainsi que l'histoire de l'éducation au Moyen Age.\n\n \n\nPlaces limitées, inscriptions obligatoires et n'oubliez pas le passe sanitaire !\n \n\n \n\n\n \n\nQuestions : nushad.merchant@audencia.com
BEGIN:VALARM
ACTION:DISPLAY
TRIGGER:-PT60M
DESCRIPTION:Club Activités Culturelles - Visite guidée - La Montagne Sainte Geneviève
END:VALARM
END:VEVENT
END:VCALENDAR