BEGIN:VCALENDAR
VERSION:2.0
X-WR-TIMEZONE:Europe/Paris
PRODID:-//Audencia//NONSGML v1.0//EN
CALSCALE:GREGORIAN
BEGIN:VEVENT
SUMMARY:Chapter Madrid - Afterwork with Audencia's Patricia Munoz-King
DTSTART:20220210T190000
DTEND:20220210T210000
UID:1149
DTSTAMP:20260425T210209
LOCATION:Lateral Castellana 42, Paseo de la Castellana,  Madrid, Spain
DESCRIPTION:Afterwork with Audencia's Patricia Munoz-King\n\nOn the occasion of Patricia Munoz-King's visit to Madrid as Audencia's International Employer Relations Manager, alumni are invited to join her for an informal afterwork on:\n \n\n	Date: Thursday 10 February\n	Time: 7pm-9pm\n	At: Lateral Castellana 42, Paseo de la Castellana, Madrid, Spain\n\n\nThis will be a great opportunity to catch up with all the latest news of Audencia and share stories with Patricia about your (and her) home city of Madrid!\n\n\n \n\nQuestions : nushad.merchant@audencia.com
BEGIN:VALARM
ACTION:DISPLAY
TRIGGER:-PT60M
DESCRIPTION:Chapter Madrid - Afterwork with Audencia's Patricia Munoz-King
END:VALARM
END:VEVENT
END:VCALENDAR