BEGIN:VCALENDAR
VERSION:2.0
X-WR-TIMEZONE:Europe/Paris
PRODID:-//Audencia//NONSGML v1.0//EN
CALSCALE:GREGORIAN
BEGIN:VEVENT
SUMMARY:Club Activités Culturelles - Visite guidée - Palais Garnier
DTSTART:20220205T110000
DTEND:20220205T123000
UID:1148
DTSTAMP:20260425T210210
LOCATION:Palais Garnier Rue Scribe 75009 Paris
DESCRIPTION:Le Club Activités Culturelles organise une visite guidée du Palais Garnier le samedi 5 février à 11h.\n\nPlaces limitées, inscriptions obligatoires et avec une petite participation et n'oubliez pas le passe sanitaire !\n\n \n\n \n \n\nQuestions : nushad.merchant@audencia.com
BEGIN:VALARM
ACTION:DISPLAY
TRIGGER:-PT60M
DESCRIPTION:Club Activités Culturelles - Visite guidée - Palais Garnier
END:VALARM
END:VEVENT
END:VCALENDAR