BEGIN:VCALENDAR
VERSION:2.0
X-WR-TIMEZONE:Europe/Paris
PRODID:-//Audencia//NONSGML v1.0//EN
CALSCALE:GREGORIAN
BEGIN:VEVENT
SUMMARY:CV photo shoot during Career Connections Week, Audencia Atlantic Campus, Nantes
DTSTART:20220120T140000
DTEND:20220120T163000
UID:1147
DTSTAMP:20260425T210116
LOCATION:Salle Forum Audencia - Atlantic Campus
DESCRIPTION:On the occasion of the Career Connections Week - 17/20 January 2022 - dedicated to 1st and 3rd year Grande Ecole students, a professional photographer will be present to take a professional photo that you can use for your CV and social networks.\n\nRegistration is on a first come, first served basis. There are only 50 places available!\n\nThe session takes place in the Forum without appointment between 2pm and 4.30pm for registered students only!\n\n \nREGISTER NOW ON\nTOMORROW\n \n\n*business dress recommended!
BEGIN:VALARM
ACTION:DISPLAY
TRIGGER:-PT60M
DESCRIPTION:CV photo shoot during Career Connections Week, Audencia Atlantic Campus, Nantes
END:VALARM
END:VEVENT
END:VCALENDAR