BEGIN:VCALENDAR
VERSION:2.0
X-WR-TIMEZONE:Europe/Paris
PRODID:-//Audencia//NONSGML v1.0//EN
CALSCALE:GREGORIAN
BEGIN:VEVENT
SUMMARY:Vin chaud et galettes à Montréal
DTSTART:20220123T140000
DTEND:20220123T170000
UID:1145
DTSTAMP:20260425T210150
LOCATION:Parc Lafontaine 3819 Av. Calixa-Lavallée Montréal
DESCRIPTION:Retrouvons-nous autour d'un bon vin chaud et quelques parts de galettes pour célébrer ensemble cette nouvelle année!\nAprès 2 ans de pandémie, on s'est dit qu'il était grand temps de prendre des nouvelles de chacun, d'accueillir de nouveaux visages, d'échanger tout simplement !\n\nVenez nombreux et accompagnés si vous le souhaitez !\n\n? dimanche 23 janvier 2022 de 14h à 17h\n? parc Lafontaine (près de la pétanque- TBD)\n? Apportez vos meilleurs vins chauds et galettes\n\nOn vous enverra des recettes pour ceux qui souhaitent les faire eux-mêmes.\n\nVous pouvez retrouver toutes les informations ici!\n \n
BEGIN:VALARM
ACTION:DISPLAY
TRIGGER:-PT60M
DESCRIPTION:Vin chaud et galettes à Montréal
END:VALARM
END:VEVENT
END:VCALENDAR