BEGIN:VCALENDAR
VERSION:2.0
X-WR-TIMEZONE:Europe/Paris
PRODID:-//Audencia//NONSGML v1.0//EN
CALSCALE:GREGORIAN
BEGIN:VEVENT
SUMMARY:CCI France Chine: SAUVER DES VIES À PÉKIN
DTSTART:20220120T111500
DTEND:20220120T140000
UID:1144
DTSTAMP:20260425T210147
LOCATION:CCI FRANCE CHINE Beijing Office, Suites 201-222, 2F, Building 81, No. 4 Gongti North Road, Chaoyang District, Beijing, China
DESCRIPTION:Introduction \n\nNous avons le plaisir de vous inviter à une soirée théorique et pratique avec le docteur Sonia Jutard-Bourreau, médecin généraliste et urgentiste à la clinique Raffles !\n\nNous aurons ainsi l'occasion d'appréhender la prise en charge des situations d'urgences médicales, et aborderons le sujet des différentes modalités de soins à Pékin. \n \n\nAgenda\n\nCette conférence se déroulera en deux temps : \n1) Une brève partie théorique\n\n2) Une formation pratique durant laquelle, ceux qui désirent, pourront effectuer les gestes qui sauvent au travers par exemple du massage cardiaque, de la manœuvre de Heimlich etc. Tant de choses qui pourront nous être très utiles, tant dans notre vie privée que dans notre vie professionnelle. \n\nAfin de pouvoir effectuer les exercices pratiques, nous vous conseillons de mettre des vêtements confortables.\n\nCette conférence sera suivie d’un cocktail où nous pourrons échanger dans une ambiance amicale et conviviale.\n \n\nInformation\n\nDate: 20 Janvier, 2022\n\n18h15 - 18h30 Accueil\n\n18h30 - 19h45 Présentation + Q&A\n\n19h45 - 21h00 Cocktail\n\nLangue : Français\n\nFrais : Gratuit pour les membres & Audencia Alumni, 100 RMB pour Non-Membres\n\nLieu : CCI FRANCE CHINE Beijing Office, Suites 201-222, 2F, Building 81, No. 4 Gongti North Road, Chaoyang District, Beijing / 北京市朝阳区工体北路4号院81号楼二层201-222室\n \n\nIntervenante\n\n\n\nDocteur Sonia Jutard-Bourreau\n\nLe docteur Sonia Jutard-Bourreau pratique à Pékin depuis 2012 et possède une longue expérience en médecine générale et familiale. En tant que médecin urgentiste, elle est aussi qualifiée pour les urgences générales, pédiatriques et traumatologiques.\n\nLe Dr Jutard-Bourreau pourra vous proposer à Pékin, si vous le désirez, des formations diplômantes de secourisme\n \n\nCoordinatrice & Modératrice\n\n\n\nSylvie Berger\n \n\nInscription\n\n\n 
BEGIN:VALARM
ACTION:DISPLAY
TRIGGER:-PT60M
DESCRIPTION:CCI France Chine: SAUVER DES VIES À PÉKIN
END:VALARM
END:VEVENT
END:VCALENDAR