BEGIN:VCALENDAR
VERSION:2.0
X-WR-TIMEZONE:Europe/Paris
PRODID:-//Audencia//NONSGML v1.0//EN
CALSCALE:GREGORIAN
BEGIN:VEVENT
SUMMARY:Ski Trip in Beijing, China
DTSTART:20220122T010000
DTEND:20220122T130000
UID:1143
DTSTAMP:20260425T210449
LOCATION:Nanshan Skiing Park, Miyun, Beijing, China
DESCRIPTION:\nLocation: Beijing Nanshan Skiing Park\nDate: Saturday, January 22nd, 2022\nTime: Around 8:00 am Beijing Time (Details to be communicated)\nPrice: 58 RMB (Transportation) + 350 RMB (Skiing Ticket, including equipment and cable car)\nNote: A 300 RMB deposit is needed for skiing equipment \n\n\nTo register, please\n\n\n	scan the QR code in above poster to join the dedicated WeChat group, \n\n\nor\n\n\n	email our alumni ambassador TIAN Jing at tianjinggcis@qq.com\n
BEGIN:VALARM
ACTION:DISPLAY
TRIGGER:-PT60M
DESCRIPTION:Ski Trip in Beijing, China
END:VALARM
END:VEVENT
END:VCALENDAR