BEGIN:VCALENDAR
VERSION:2.0
X-WR-TIMEZONE:Europe/Paris
PRODID:-//Audencia//NONSGML v1.0//EN
CALSCALE:GREGORIAN
BEGIN:VEVENT
SUMMARY:CCI France Chine Webinar: [The Chinese Civil Code] Overview after one year of existence
DTSTART:20220120T113000
DTEND:20220120T130000
UID:1142
DTSTAMP:20260425T210437
LOCATION:
DESCRIPTION:Introduction\n\nOn January 1st, 2021, the brand new Chinese Civil Code came into effect.\nKnown in other countries for centuries, it came as a revolution in China, repelling multiple laws at the same time and having a significant impact on how the law is grasped in the PRC.\nAfter one year of existence, what are the effects of the Chinese Civil Code on businesses and on daily life?\n \n\nGoals\n\n\n	\n	Understand the stakes of the newly implemented Code Civil\n	\n	\n	Provide an overview of the different sections of the Code\n	\n	\n	Give insights on the practical impacts on your business\n	\n\n\n \n\nAgenda\n\n1. The Chinese Civil code: a new codification\n2. The impacts on businesses: contracts and personal data\n3. Focus on compliance and best practice for businesses\n\n \n\nLanguage: English\nDate: Thursday, January 20th\nTime: 18:30 - 20:00 in China / 11:30 - 13:00 in France \nFee: Free for CCI FRANCE CHINE members & Audencia Alumni\nLocation:  CCI FRANCE CHINE Shanghai Office (2F Mayfair Tower, 83 Fu min Road, Shanghai, China) / Webinar (the link will be sent to you after registration)\nRegistration: Scan the following QR code\n\n
BEGIN:VALARM
ACTION:DISPLAY
TRIGGER:-PT60M
DESCRIPTION:CCI France Chine Webinar: [The Chinese Civil Code] Overview after one year of existence
END:VALARM
END:VEVENT
END:VCALENDAR