BEGIN:VCALENDAR
VERSION:2.0
X-WR-TIMEZONE:Europe/Paris
PRODID:-//Audencia//NONSGML v1.0//EN
CALSCALE:GREGORIAN
BEGIN:VEVENT
SUMMARY:Club Culture & Management - Cycle culture, bien essentiel 1/2 : la culture, un possible (impossible ?) pour toutes et tous
DTSTART:20220119T190000
DTEND:20220119T200000
UID:1140
DTSTAMP:20260425T210604
LOCATION:
DESCRIPTION:France, terre d’accès à la culture pour toustes et particulièrement des publics dits « du champs social ».\n\nCette volonté politique et sociétale donne naissance à des initiatives et programmes parfois très intelligents et drôlement créatifs. \nMais... est-ce que cela fonctionne ? De quels publics parle-t-on exactement et dans quelle mesure cette mission peut-elle prétendre à «  ouvrir »  à des esthétiques qu’elles soient musicales théâtrales ou plastiques.\nCar où s’arrête la mission et où commence la liberté de ces publics ?\n\nNous explorerons des expériences réussies avec Jean Bourbon, Consultant en médiation culturelle, pour l’approche territoriale (Ex Ferme du Buisson, Le CentQuatre-Paris) et Audrey Ouaki, Responsable du développement des publics des activités culturelles, éducatives et sociales à la Philharmonie-Cité de la Musique, (Programme Demos). \nEt aussi, entendrons-nous la parole, ô combien essentielle, de ce public avec l’association Article-1 qui agit en faveur de l’égalité des chances.\n \n\n \n\nModérateurs\n\n\n	\n	Donatienne HANTIN CHARBAUT\n	L'ESPRIT JAZZ - FESTIVAL JAZZ À SAINT-GERMAIN-DES-PRÉS PARIS/Co-fondatrice et Directrice de Production, Responsable Spectacle Vivant c&m\n	\n	\n	Jean Bourbon, Consultant en médiation culturelle, pour l’approche territoriale\n	\n	\n	Audrey Ouaki, Responsable du développement des publics, des activités culturelles, éducatives et sociales à la Philharmonie-Cité de la Musique\n	\n\n\nAu plaisir de vous retrouver,\nL'équipe du Club Culture & Management\n \n\nRéservez votre place dès maintenant !
BEGIN:VALARM
ACTION:DISPLAY
TRIGGER:-PT60M
DESCRIPTION:Club Culture & Management - Cycle culture, bien essentiel 1/2 : la culture, un possible (impossible ?) pour toutes et tous
END:VALARM
END:VEVENT
END:VCALENDAR