BEGIN:VCALENDAR
VERSION:2.0
X-WR-TIMEZONE:Europe/Paris
PRODID:-//Audencia//NONSGML v1.0//EN
CALSCALE:GREGORIAN
BEGIN:VEVENT
SUMMARY:SAI - Join the international recruitment panel for the Grande Ecole programme in Beijing, China
DTSTART:20171111T090000
DTEND:20171111T170000
UID:114
DTSTAMP:20260425T210031
LOCATION:​Institut français de Pékin Guangcai Guoji Gongyu Gongti Xilu 18 Chaoyang Qu Beijing 100020
DESCRIPTION:Do you want to help find the next generation of successful students?\n\nIf you graduated from Audencia (all programmes) 3 or more years ago, become a panel member in Beijing, China on November 11th from 09.00 to 17.00 at\n\nInstitut français de Pékin\nGuangcai Guoji Gongyu Gongti Xilu 18 Chaoyang Qu\nBeijing 100020\n \n\n\n	Be a part of the selection process and participate in the international promotion of Audencia.\n	Meet for 30 minutes with 4 to 5 different candidates, talk about their project, your experiences with their future school, and fill in an evaluation grid.\n	Meet alumni from other Grandes Ecoles and grow your network.\n\n\n​\nFor more information or to register\nSend an email to: sai@cci-paris-idf.fr
BEGIN:VALARM
ACTION:DISPLAY
TRIGGER:-PT60M
DESCRIPTION:SAI - Join the international recruitment panel for the Grande Ecole programme in Beijing, China
END:VALARM
END:VEVENT
END:VCALENDAR