BEGIN:VCALENDAR
VERSION:2.0
X-WR-TIMEZONE:Europe/Paris
PRODID:-//Audencia//NONSGML v1.0//EN
CALSCALE:GREGORIAN
BEGIN:VEVENT
SUMMARY:Year-End Party in Shenzhen
DTSTART:20211231T123000
DTEND:20211231T170000
UID:1139
DTSTAMP:20260425T210438
LOCATION:Shenzhen, Guangdong, Chine
DESCRIPTION:\n\nFor more information and registration, please contact our alumni ambassador Qing SUN via the following methods: \nEmail: sunqing221@126.com \nWeChat ID: suki-sunshine
BEGIN:VALARM
ACTION:DISPLAY
TRIGGER:-PT60M
DESCRIPTION:Year-End Party in Shenzhen
END:VALARM
END:VEVENT
END:VCALENDAR