BEGIN:VCALENDAR
VERSION:2.0
X-WR-TIMEZONE:Europe/Paris
PRODID:-//Audencia//NONSGML v1.0//EN
CALSCALE:GREGORIAN
BEGIN:VEVENT
SUMMARY:Webinar: Daniel Porot on how to get your foot in the door
DTSTART:20220209T130000
DTEND:20220209T140000
UID:1138
DTSTAMP:20260425T210438
LOCATION:
DESCRIPTION:DATE: Wednesday 9 February 2022\nTIME: 13:00 to 14:00 Paris time\n\nFinding a new full-time job is always a challenge, especially if you want to make a big change.  The challenge can be trickier in mid-career (between 45 and 50) when employers may fixate on younger candidates.\n\nThe best - and most underappreciated - tactic in these situations is to “Get Your Foot in the door” by looking for projects, consulting contracts and freelance work.\n\nIn this webinar, Daniel Porot will show how flexibility on the type of work you do, combined with unconventional job search techniques, can transform your prospects and open new doors at any age.\n\nWe will discuss:\n\n\n	How and why you should look for projects alongside full time roles\n	The value of the “foot in the door” technique\n	What kinds of research you should do\n	How to translate your experience into value for an employer (even in an unrelated industry)\n	How to work with peers to research industries\n	How to spot and defuse older worker bias\n\n\n \n\nREGISTRATION\nWe have 200 free tickets for Audencia's alumni and students\n(use code "AUD-student" if ticket does not show)\n\n\nAbout the speaker:\nDaniel Porot lectures on career design and job hunting at INSEAD, Columbia, IMD, Kellogg, London Business School, Stanford and Wharton. Daniel co-taught Richard N. Bolles' (author of What Color Is Your Parachute?) two-week summer workshop for 20 years. He has trained more than 115,000 people in 60 countries and has enabled over 2 million people to be trained using his methods. He is the author of 22 books (including four US and European bestsellers). More information (and free careers materials) at www.Porot.com\n\n\n\n\n\n\nAUDENCIA's WEBINAR LIBRARY\nUnlimited access for Audencia students and alumni\nWe are delighted to offer all Audencia students and alumni access to a library of careers webinars featuring world-class management thinkers like Steve Dalton, Dorie Clark and Daniel Porot.\n\nAll Audencia alumni and students now have unlimited access to the portal which includes:\n\n	Advice on, job-hunting and interviewing, international and portfolio careers and how to be a better boss\n	Videos optimised for mobiles and tablets\n	Unlimited – free online access to all Audencia students and alumni\n\n\nRegister for your individual account here: https://www.AlumniExtra.com/audencia/\n \n \n\n 
BEGIN:VALARM
ACTION:DISPLAY
TRIGGER:-PT60M
DESCRIPTION:Webinar: Daniel Porot on how to get your foot in the door
END:VALARM
END:VEVENT
END:VCALENDAR