BEGIN:VCALENDAR
VERSION:2.0
X-WR-TIMEZONE:Europe/Paris
PRODID:-//Audencia//NONSGML v1.0//EN
CALSCALE:GREGORIAN
BEGIN:VEVENT
SUMMARY:ANNULE - MS MOS - Soirée Esport/Gaming
DTSTART:20220308T190000
DTEND:20220308T230000
UID:1137
DTSTAMP:20260425T210205
LOCATION:Audencia Campus Paris,  95 Rue Falguière,  75015 Paris
DESCRIPTION:\n\n\n\nVous êtes fans d'Esport ou tout simplement curieux ? \n \n\nOn vous attend le mardi 8 mars à partir de 19h\npour la 1ère soirée Esport du MS MOS\n\n \n\nAu programme une soirée découverte tournoi autour de deux jeux, Super Smash Bros Ultimate & Mario Kart sur Switch avec une remise de prix. L'idée est simple, vous faire découvrir l'Esport ou tout simplement pour venir vous amuser. \n \n\nInscrivez-vous en vous connectant à votre compte Together.\nSoucis d'inscription ? Contactez : nushad.merchant@audencia.com \n\n \n\nOn vous attend nombreux !\n\nL'équipe Esport du MS MOS\n \n\nVeuillez noter que le Pass Vaccinal est obligatoire pour accéder à l'événement.\nChaque participant devra présenter son Pass Vaccinal qui consiste en la présentation, numérique ou papier
BEGIN:VALARM
ACTION:DISPLAY
TRIGGER:-PT60M
DESCRIPTION:ANNULE - MS MOS - Soirée Esport/Gaming
END:VALARM
END:VEVENT
END:VCALENDAR