BEGIN:VCALENDAR
VERSION:2.0
X-WR-TIMEZONE:Europe/Paris
PRODID:-//Audencia//NONSGML v1.0//EN
CALSCALE:GREGORIAN
BEGIN:VEVENT
SUMMARY:Christmas Party in Beijing
DTSTART:20211219T040000
DTEND:20211219T060000
UID:1135
DTSTAMP:20260425T210143
LOCATION:Tienstiens 4 Gongti North road, Sanlitun, Beijing, China
DESCRIPTION:
BEGIN:VALARM
ACTION:DISPLAY
TRIGGER:-PT60M
DESCRIPTION:Christmas Party in Beijing
END:VALARM
END:VEVENT
END:VCALENDAR