BEGIN:VCALENDAR
VERSION:2.0
X-WR-TIMEZONE:Europe/Paris
PRODID:-//Audencia//NONSGML v1.0//EN
CALSCALE:GREGORIAN
BEGIN:VEVENT
SUMMARY:Webinar de présentation de l'Incubateur Centrale Audencia Ensa
DTSTART:20211208T183000
DTEND:20211208T193000
UID:1133
DTSTAMP:20260425T210141
LOCATION:
DESCRIPTION:#PROMOHIVER2022\n\nTu veux en savoir plus sur l’incubateur ?\nTu veux nous poser tes questions en direct ?\nAlors ce webinaire est fait pour toi !\n\nAu programme : \n\n	? Présentation des programmes de pré-incubation et d’incubation\n	➕ Pourquoi choisir l'incubateur, quels sont les avantages qui s’offrent à toi\n	✔ Partage d'expérience, avec Mathis Etournay de Tréno, Karl YEN et Nicolas Cormerais de La Ruche à Vin, incubés de la promo été 2021, qui a débuté en septembre !\n	? Échanges : à vos questions !\n\n\nIntéressé ?\nAlors rdv le 8 décembre à 18h30\n \nLIEN D'INSCRIPTION\n\n\n\n \n
BEGIN:VALARM
ACTION:DISPLAY
TRIGGER:-PT60M
DESCRIPTION:Webinar de présentation de l'Incubateur Centrale Audencia Ensa
END:VALARM
END:VEVENT
END:VCALENDAR