BEGIN:VCALENDAR
VERSION:2.0
X-WR-TIMEZONE:Europe/Paris
PRODID:-//Audencia//NONSGML v1.0//EN
CALSCALE:GREGORIAN
BEGIN:VEVENT
SUMMARY:Club assurance - Partage d'expériences
DTSTART:20220126T123000
DTEND:20220126T140000
UID:1132
DTSTAMP:20260425T210118
LOCATION:
DESCRIPTION: \n\n\nDSN, Fraude, Sinistres…\n\nVenez échanger et partager vos retours d'expérience !\n\n\n\nLes Ambassadrices du club Assurance, Virginie Buquet (GE 02), Gaëlle Gaudicheau (MBA 12) et Oriane Valdelièvre (GE 13), vous proposent de vous retrouver le mercredi 26 janvier à 12h30 en distanciel.\n\nAfin de mieux se connaître, nous vous proposons d'apporter une photo/image qui vous correspond (un dernier événement vécu ou de vacances, une activité qui vous tient à cœur, un sport pratiqué...) et que nous partagerons à la fin.\n\n\nAu programme :\n\n\n\nVirginie Buquet (GE 02), Directrice chez Synaxia Conseil, parlera de la fraude en assurance en s'appuyant sur le livre blanc Synaxia Conseil.\n\n\n\n\nBertille Hutin (GE 14), Manager chez A2 Consulting, nous présentera la DSN (Déclaration Sociale Nominative) et partagera son expérience sur le sujet.\n\n\n\n\nJean-Baptiste Tesson (Exec MBA 19), Responsable Développement Entreprises et Collectivités chez EQUAD RCC, évoquera la gestion des sinistres.\n\n\n\nVous avez la parole !\nEt vous ? Si vous partagiez également votre expérience ? N'hésitez pas à envoyer un e-mail à lcaliez@audencia.com pour soumettre un sujet.\n \n\nPour nous rejoindre, cliquez ici...\n \n\n
BEGIN:VALARM
ACTION:DISPLAY
TRIGGER:-PT60M
DESCRIPTION:Club assurance - Partage d'expériences
END:VALARM
END:VEVENT
END:VCALENDAR