BEGIN:VCALENDAR
VERSION:2.0
X-WR-TIMEZONE:Europe/Paris
PRODID:-//Audencia//NONSGML v1.0//EN
CALSCALE:GREGORIAN
BEGIN:VEVENT
SUMMARY:SAI - Join the international recruitment panel for the Grande Ecole programme in Montréal, Canada
DTSTART:20171111T090000
DTEND:20171111T180000
UID:113
DTSTAMP:20260425T205856
LOCATION:Montréal, Canada
DESCRIPTION:Do you want to help find the next generation of successful students?\n\nIf you graduated from Audencia (all programmes) 3 or more years ago, become a panel member in Montréal, Canada on November 11th.\n\n	Be a part of the selection process and participate in the international promotion of Audencia.\n	Meet for 30 minutes with 4 to 5 different candidates, talk about their project, your experiences with their future school, and fill in an evaluation grid.\n	Meet alumni from other Grandes Ecoles and grow your network.\n\n \n\nFor more information or to register\nSend an email to: sai@cci-paris-idf.fr
BEGIN:VALARM
ACTION:DISPLAY
TRIGGER:-PT60M
DESCRIPTION:SAI - Join the international recruitment panel for the Grande Ecole programme in Montréal, Canada
END:VALARM
END:VEVENT
END:VCALENDAR