BEGIN:VCALENDAR
VERSION:2.0
X-WR-TIMEZONE:Europe/Paris
PRODID:-//Audencia//NONSGML v1.0//EN
CALSCALE:GREGORIAN
BEGIN:VEVENT
SUMMARY:Club Run Audencia - Séance Run
DTSTART:20211207T193000
DTEND:20211207T203000
UID:1129
DTSTAMP:20260425T210053
LOCATION:Concorde, Paris
DESCRIPTION: OYÉ OYÉ\nRuneurs, runneuses, fini les footings solo, le Club Run Audencia reprend du service !\n\n Rendez-vous les mardis soirs, à 19h30 pour une séance sur les quais de Seine.\n \n\nPremier rendez vous : mardi 7 décembre, Concorde.\nOn vous attend nombreux !\n \n\nUn groupe WhatsApp est créé dès aujourd’hui pour accéder à toutes les infos des rdv hebdomadaires. Il est possible de le rejoindre via ce lien : https://chat.whatsapp.com/H6L0udqnPTZE7ktFXLINOf
BEGIN:VALARM
ACTION:DISPLAY
TRIGGER:-PT60M
DESCRIPTION:Club Run Audencia - Séance Run
END:VALARM
END:VEVENT
END:VCALENDAR