BEGIN:VCALENDAR
VERSION:2.0
X-WR-TIMEZONE:Europe/Paris
PRODID:-//Audencia//NONSGML v1.0//EN
CALSCALE:GREGORIAN
BEGIN:VEVENT
SUMMARY:MBA Community: conversation with Samer, MBA 17
DTSTART:20220113T170000
DTEND:20220113T180000
UID:1128
DTSTAMP:20260425T210438
LOCATION:
DESCRIPTION:Samer Afzal is from India; she graduated from the full-time MBA programme in 2017 and has worked in France ever since.\n\nJoin her online from 17:00 to 18:00 on Thursday 13 January to find out more about her journey:\n\n	Getting to grips with French\n	Working for Google and Amazon Web Services\n	How her MBA impacted her career path\n	... and more\n\n \n\nFollow this link (Teams) to join the conversation\n \n\n\n\n 
BEGIN:VALARM
ACTION:DISPLAY
TRIGGER:-PT60M
DESCRIPTION:MBA Community: conversation with Samer, MBA 17
END:VALARM
END:VEVENT
END:VCALENDAR