BEGIN:VCALENDAR
VERSION:2.0
X-WR-TIMEZONE:Europe/Paris
PRODID:-//Audencia//NONSGML v1.0//EN
CALSCALE:GREGORIAN
BEGIN:VEVENT
SUMMARY:La formule Atlanpole Nantes: être une entreprise à impact - mode d’emploi
DTSTART:20211214T110000
DTEND:20211214T140000
UID:1127
DTSTAMP:20260425T205841
LOCATION:Cité des Congrès Nantes
DESCRIPTION:\n\n \n\nMardi 14 décembre 2021\n11h00 à 14h00\nCité des Congrès de Nantes\n\n\nToutes les entreprises cherchent aujourd'hui à être plus responsables et respectueuses de l'environnement. Au-delà des certifications, labels et statuts existants (B-corp, GreenTech, Engagé RSE, LUCIE, société à mission,…),\n\n\n	Quels sont les critères qui permettent de distinguer les entreprises qui ont un impact positif ?\n	De quoi parle-t-on réellement quand on parle d’impact ?\n\n\nDifférents acteurs du territoire, très impliqués sur ces sujets, nous aideront à y voir plus clair et nous partageront de bonnes pratiques d’évaluation des entreprises.\n11h00-12h30 : Table-ronde et témoignages (gratuit)\n12h30-14h00 :  Cocktail déjeunatoire networking (participation 15€)\nINTERVENANTS\n\n	Marie GABORIT, Directrice, Toovalu, diplômée GE 04\n	Pascale GUIFFANT, Co-fondatrice, Open Lande\n	Anne-Laure GUIHENEUF, consultante et formatrice en RSE, Plateforme RSE de la métropole nantaise\n	Aspasia NANAKI, Chargée de mission Impact, Nantes St Nazaire Développement\n	Hugo PONCE, CEO, Finpact\n\n \n\nVous pouvez leur poser vos questions, dès à présent, dans le formulaire d’inscription.\nFORMULAIRE D'INSCRIPTION\n \n\n\n	Inscription gratuite mais obligatoire | Cocktail networking 15 €\n	Inscription à Social Change gratuite mais obligatoire (sur place ou en ligne\n\n\n \n\n\n 
BEGIN:VALARM
ACTION:DISPLAY
TRIGGER:-PT60M
DESCRIPTION:La formule Atlanpole Nantes: être une entreprise à impact - mode d’emploi
END:VALARM
END:VEVENT
END:VCALENDAR