BEGIN:VCALENDAR
VERSION:2.0
X-WR-TIMEZONE:Europe/Paris
PRODID:-//Audencia//NONSGML v1.0//EN
CALSCALE:GREGORIAN
BEGIN:VEVENT
SUMMARY:Online reunion: full-time MBA class of 2014
DTSTART:20220127T183000
DTEND:20220127T193000
UID:1123
DTSTAMP:20260425T211128
LOCATION:
DESCRIPTION:It's catching on!\n\nFirst it was the class of 2009 and now it's the turn of the full-time MBA alumni of 2014.\nThey live on four different continents but they have kept in touch since graduation.\n\nThe MBA class of 2014 is going live for an alumni conversation on Thursday 27 January at 18:30 Paris time.\n\nIf you are an alum or former exchange student of this cohort,\nJoin via zoom\n(ID & passcode in your cohort conversation on LinkedIn)\n \n\n\n\n 
BEGIN:VALARM
ACTION:DISPLAY
TRIGGER:-PT60M
DESCRIPTION:Online reunion: full-time MBA class of 2014
END:VALARM
END:VEVENT
END:VCALENDAR