BEGIN:VCALENDAR
VERSION:2.0
X-WR-TIMEZONE:Europe/Paris
PRODID:-//Audencia//NONSGML v1.0//EN
CALSCALE:GREGORIAN
BEGIN:VEVENT
SUMMARY:Erasmus+ project in Nantes: building a more sustainable future
DTSTART:20220117T090000
DTEND:20220117T180000
UID:1121
DTSTAMP:20260425T210148
LOCATION:Mediacampus 41 Bd de la Prairie au Duc 44200 Nantes
DESCRIPTION:Feeding our cities: developing sustainable, resilient & inclusive food systems\nThis is a UNIQUE opportunity to be part of a EU Erasmus + project which aims at using design-based methods of teaching and learning to work on a live project in and with Nantes and look at a major issue in sustainability (here; how to feed cities in the future). Applicants (students and recent graduates) will work along other students from Finland, Spain and Ireland to suggest avenues to explore in this fascinating area.\n\nThe intensive week 17-21 January 2022 is taking place at the Audencia Mediacampus and will be full of master classes and exploration tasks to investigate how a city like Nantes is looking at feeding its citizens in the most effective sustainable way. \n\nStudents will contine their investigation for 4 weeks online using different channels to work and communicate. There will be a public presentation at the end of the process. So it is an eye opening, intensive, collective, transdisciplinary  and fun design-based exploration of a very serious sustainability issue.\nWe would welcome alumni looking at refreshing/enhancing their skills in the management of projects dealing with sustainability and being free for 5 weeks to do so. \n\nTo sum up, for Audencia participants, this will be:\n\n	An exciting, innovative learning experience\n	A chance to develop the skills to tackle our most pressing and complex challenges\n	The chance to bring an idea from concept to prototype\n	Work in multi-disciplinary, multi-cultural teams\n	Experience in: Agile team methods and Design inspired methods of thinking and planning; Virtual collaborative work platforms and tools (MSTeams/Slack; Miro; Twitter; LinkedIn)\n	Working in English with students from Ireland, Finland and Spain\n	An EU certificate of attendance for all participants\n\n \n\nPlease follow this link to the EULab application form\n\nAny questions, contact Catherine Morel\n\n
BEGIN:VALARM
ACTION:DISPLAY
TRIGGER:-PT60M
DESCRIPTION:Erasmus+ project in Nantes: building a more sustainable future
END:VALARM
END:VEVENT
END:VCALENDAR