BEGIN:VCALENDAR
VERSION:2.0
X-WR-TIMEZONE:Europe/Paris
PRODID:-//Audencia//NONSGML v1.0//EN
CALSCALE:GREGORIAN
BEGIN:VEVENT
SUMMARY:Webinar: soft skills – the key difference to becoming highly effective and valued
DTSTART:20220329T130000
DTEND:20220329T140000
UID:1120
DTSTAMP:20260425T211127
LOCATION:
DESCRIPTION:AMBA webinar "soft skills – the key difference to becoming highly effective and valued"\n\nDate: Tuesday 29 March 2022\nTime: 13:00-14:00 Paris time\n\nEvery job requires different strengths and capabilities, but soft skills form the backbone of any successful career. These are the skills that enable you to listen to and collaborate effectively with other people, manage individuals, lead teams, and run projects, communicate your ideas persuasively and build a social network that will enhance your career.\nIn this interactive session, Dan White will explain how using practical tools and frameworks can enhance each soft skill clearly, why it is relevant and important, and how to apply this skill to your working life.\nAbout our speaker\nDan White is a business innovator. His ideas about the science of marketing, and the art of succeeding within business, have influenced generations of young professionals.\nIn his early career, Dan built client relationships and successful teams. He went on the become Chief Marketing Officer for global research company Millward Brown, responsible for product development, marketing, and internal communications across Europe. Dan then turned his attention to capability development as Head of Expertise for Kantar’s insights division. In this role he created a blueprint for professional development, identifying what someone within a professional service company needs to learn in order to succeed and the best way for them to gain the necessary skills and knowledge.\nThis insight has been distilled into the ideas and unique visualisations presented in The Soft Skills Book.\n \nTo join the webinar\nREGISTER HERE\n \n\nDid you graduate from an AMBA-accredited programme at Audencia?\nThis webinar is accessible to students or alumni of an AMBA-accredited programme at Audencia, i.e., Executive MBA, EuroMBA, Full-Time MBA or Master in Management (Grande Ecole Programme), but registration is required. Registering as an alum of an AMBA-accredited programme takes only a few minutes.\nThis event is free for AMBA members to attend but registration is required using the link above.\n \n
BEGIN:VALARM
ACTION:DISPLAY
TRIGGER:-PT60M
DESCRIPTION:Webinar: soft skills – the key difference to becoming highly effective and valued
END:VALARM
END:VEVENT
END:VCALENDAR