BEGIN:VCALENDAR
VERSION:2.0
X-WR-TIMEZONE:Europe/Paris
PRODID:-//Audencia//NONSGML v1.0//EN
CALSCALE:GREGORIAN
BEGIN:VEVENT
SUMMARY:Webinar: not knowing – leading in uncertainty and complexity
DTSTART:20220223T130000
DTEND:20220223T140000
UID:1119
DTSTAMP:20260425T210437
LOCATION:
DESCRIPTION:AMBA webinar: not knowing – leading in uncertainty and complexity\n\nDate: Wednesday 23 February 2022\nTime: 13:00-14:00 Paris time\n\n‘The future belongs to the learners, while the learned will find themselves beautifully equipped to deal with a world that no longer exists.’ Eric Hoffer\n\nThis interactive ‘Not Knowing’ masterclass will focus on how to lead yourself and others effectively in volatility, uncertainty, complexity, and ambiguity (VUCA) a vital skill in the 21st Century.\nIt is a must for all those going through change, and it is also suitable also for MBA students and graduates – as well as seasoned leaders who need to help their teams as well as clients through continuous change.\nIn order to win, the fast-growing LGBT+ ecosystem of states, individuals – including allies – companies, their C-suites, NGOs, and organisations will have to be smart, flexible, and quick to learn. \nIn any case, a new game is afoot – one that is addressing the business and human rights case of LGBT+ equality simultaneously, and one that is more political than ever before. \nIn this interactive webinar, Jens will outline 10 key drivers, trends, and fields of action for companies and related players what should be addressed to be a winner in the respective context and to reach the next level of diversity and inclusion.\nIt focuses on developing the leadership capability of creating opportunity in the face of the unknown. The session is based on the award-winning CMI / British Library Management Book of the Year Not Knowing co-authored by Steven D’Souza.\n\nAttendees will gain:\n\n	An opportunity to explore your own relationship to knowledge and expertise\n	An experiential understanding of responses when out of the expert zone and at the edge where new learning becomes possible\n	Four powerful strategies for creating opportunity in the unknown\n	Understanding negative capabilities and how to apply them\n	Ideas on how to lead others through uncertainty.\n\nThe outcome of the session is participants will leave feeling more comfortable in facing the unknown and helping to create opportunity from this space rather than feeling paralysed by uncertainty.\n\nAbout our speaker\nSteven D’Souza is an international executive educator, consultant, coach, speaker, and award-winning bestselling author of five leadership and management books.\nSteven is a former Associate Fellow of the Saïd Business School, University of Oxford and a Leadership Consultant and Executive Coach for INSEAD.\nHe has been recognised by HR magazine in its top 30 ‘Most Influential’ thought leaders globally and Thinkers 50 on their Radar List for the world’s top management thinkers. For more information on his work visit www.stevendsouza.com\n \nTo join the webinar\nREGISTER HERE\n \n\nDid you graduate from an AMBA-accredited programme at Audencia?\nThis webinar is accessible to students or alumni of an AMBA-accredited programme at Audencia, i.e., Executive MBA, EuroMBA, Full-Time MBA or Master in Management (Grande Ecole Programme), but registration is required. Registering as an alum of an AMBA-accredited programme takes only a few minutes.\nThis event is free for AMBA members to attend but registration is required using the link above.\n \n
BEGIN:VALARM
ACTION:DISPLAY
TRIGGER:-PT60M
DESCRIPTION:Webinar: not knowing – leading in uncertainty and complexity
END:VALARM
END:VEVENT
END:VCALENDAR