BEGIN:VCALENDAR
VERSION:2.0
X-WR-TIMEZONE:Europe/Paris
PRODID:-//Audencia//NONSGML v1.0//EN
CALSCALE:GREGORIAN
BEGIN:VEVENT
SUMMARY:CCI France Chine Webinar avec M. l'Ambassadeur: Actualité politique et économique, conditions d'accès en Chine
DTSTART:20211203T090000
DTEND:20211203T100000
UID:1117
DTSTAMP:20260425T210539
LOCATION:
DESCRIPTION:     \n\nLa CCI FRANCE CHINE et l'Ambassade de France en Chine, vous proposent un nouveau point sur l'actualité politique et économique ainsi que sur les conditions d'accès en Chine, le Vendredi 03 décembre à 16h (Heure de Chine GMT+8).\n \nM. Laurent BILI, Ambassadeur de France en Chine, M. Jean-Marc FENET, Ministre Conseiller pour les Affaires Economiques à l'Ambassade de France en Chine et des représentants de la Team France reviendront sur les actions en cours pour accompagner la communauté française, la situation sanitaire en France et répondront aux questions des entreprises françaises implantées en Chine. \n \nPour participer au webinar et poser vos questions, merci de remplir le formulaire d'inscription.\n\nKey Info: \n\n\n	Date: le vendredi 3 décembre\n	Heure: 9h00-10h00 en France / 16h00-17h00 en Chine\n	Langue: français\n	Lieu: CCI FRANCE CHINE Beijing Office, 2F, Building 81, No 4 Gongti North Road, Chaoyang District, Beijing 100027, P.R.C / Webinar - Les informations de connexion seront communiquées par mail après inscription, quelques jours avant l'événement.\n	Inscription (Ouvert à tous): scannez le QR Code OU cliquez ici\n\n \n\n
BEGIN:VALARM
ACTION:DISPLAY
TRIGGER:-PT60M
DESCRIPTION:CCI France Chine Webinar avec M. l'Ambassadeur: Actualité politique et économique, conditions d'accès en Chine
END:VALARM
END:VEVENT
END:VCALENDAR