BEGIN:VCALENDAR
VERSION:2.0
X-WR-TIMEZONE:Europe/Paris
PRODID:-//Audencia//NONSGML v1.0//EN
CALSCALE:GREGORIAN
BEGIN:VEVENT
SUMMARY:Cheese & Wine in Luxembourg
DTSTART:20211215T193000
DTEND:20211215T213000
UID:1114
DTSTAMP:20260425T205902
LOCATION:Barrels 21, allée Scheffer Luxembourg
DESCRIPTION:Pour la dernière rencontre de 2021, nous avons le plaisir de vous convier à une soirée cheese & wine le mercredi 15 décembre à partir de 19h à Barrels (21 allée Scheffer, Luxembourg).\n\nAudencia prendra à sa charge le vin et une partie des tapas; en vous inscrivant, il vous sera demandé une contribution de 7€ par personne. Par ailleurs, une partie des recettes sera reversée par l'école à la Fondation Audencia!\nAu menu:\n\n	Charcuteries (jambon lisanto, bresaola, Chorizo Ibérique)\n	Fromages ( Pont l’évêque, brie truffe, Ossau-Iraty)\n	Samoussa de confit de canard et ketchup betrave/framboise\n	Véritable pomme dauphine et sauce tartare\n	Œuf bio façon mimosa, crumble de parmesan et pastrami \n	Meat balls laquées à la sauce tomate/jus de viande \n\n Pour le vin:\n\n\n	Pinot Gris « Gottesgof » Claude Bentz 2018\n	Côte du Rhône St Cosme 2020\n\n\nAu plaisir de vous retrouver le 15 décembre,\nVotre ambassadeur,\n​Thomas\n
BEGIN:VALARM
ACTION:DISPLAY
TRIGGER:-PT60M
DESCRIPTION:Cheese & Wine in Luxembourg
END:VALARM
END:VEVENT
END:VCALENDAR