BEGIN:VCALENDAR
VERSION:2.0
X-WR-TIMEZONE:Europe/Paris
PRODID:-//Audencia//NONSGML v1.0//EN
CALSCALE:GREGORIAN
BEGIN:VEVENT
SUMMARY:CCI France Chine Webinar: [Groupe de travail Agro-alimentaire] L’e-commerce agro-alimentaire en Chine : quelle stratégie choisir ?
DTSTART:20211201T090000
DTEND:20211201T103000
UID:1113
DTSTAMP:20260425T210438
LOCATION:
DESCRIPTION:\n	\n		\n			\n			\n				\n					\n						La CCI FRANCE CHINE est heureuse de vous convier à son prochain :\n					\n					\n						 \n					\n					\n						\n						[Groupe de travail Agro-alimentaire] L’e-commerce agro-alimentaire en Chine : quelle stratégie choisir ?\n						\n					\n				\n			\n			\n			Le précédent webinaire du Club-agro avait présenté les questions de base à se poser pour s’insérer dans le marché de l’e-commerce agro-alimentaire chinois.\n			 \n			Le webinaire du 1er décembre entrera dans plus de détail sur les stratégies d’e-commerce à adopter pour réussir sur ce segment de marché unique au monde par ses goûts innovants, ses exigences élevées des clients, sa logistique complexe et sa taille phénoménale. Deux entreprises privées nous parlerons des services qu’ils peuvent offrir aux partenaires et sociétés françaises qui souhaitent commercialiser leurs produits en ligne en Chine.\n			 \n			Intervenants:\n			• François BLANC\n			Conseiller pour les affaires agro-alimentaires\n			Ambassade de France à Pékin\n			 \n			• Don Tan\n			Pinduoduo\n			 \n			• Benoît Raoult\n			Fondateur et Directeur Duhno Marketing\n			 \n			Déroulé:\n			1. Nouveautés réglementaires sur l’accès au marché chinois : les décrets 248 et 249 de la douane\n			2. L’e-commerce agro-alimentaire par Pinduoduo\n			3. Définir sa stratégie d’e-commerce pour la Chine\n			 \n			Les présentations seront suivies d'une session d'échanges et de questions/réponses.\n			 \n			Dans le contexte actuel, cette conférence sera tenue en présentiel dans les locaux de la CCI FRANCE CHINE, Pékin，Shanghai et Canton ainsi que sous forme de webinaire. Les informations de connexion vous seront communiquées par email après inscription avec le QR code. Nous vous proposons également de partager vos questions sur le formulaire d'inscription.\n			 \n			Programme: \n			15:30 - 16:00 : Accueil des participants\n			16:00 - 17:00 : Conférence et Webinaire (9:00 - 10:00 en France)\n			17:00 - 17:30 : Questions & Réponses (10:00 - 10:30 en France)\n			 \n			\n			\n		\n	\n
BEGIN:VALARM
ACTION:DISPLAY
TRIGGER:-PT60M
DESCRIPTION:CCI France Chine Webinar: [Groupe de travail Agro-alimentaire] L’e-commerce agro-alimentaire en Chine : quelle stratégie choisir ?
END:VALARM
END:VEVENT
END:VCALENDAR