BEGIN:VCALENDAR
VERSION:2.0
X-WR-TIMEZONE:Europe/Paris
PRODID:-//Audencia//NONSGML v1.0//EN
CALSCALE:GREGORIAN
BEGIN:VEVENT
SUMMARY:Christmas Party in Shanghai
DTSTART:20211215T120000
DTEND:20211215T150000
UID:1112
DTSTAMP:20260425T210540
LOCATION:La Maison, 210 Jinxian Lu , Huangpu, Shanghai, China
DESCRIPTION:\n \n亲爱的校友，\nAudencia Alumni诚邀你于12月15日晚参加本年度上海最后一次校友活动。\n时间：当地时间晚七点至十点（或更晚）\n地点：夜来香，上海市黄浦区进贤路210号\n活动内容：葡萄酒鉴赏及法式酒桌礼仪大师课堂+鸡尾酒自由社交（含酒水餐食，软饮畅饮）。\n费用：此次活动由Audencia Alumni支付所有费用，报名校友仅需每人交纳30元以确保出席。\n报名方式：扫码入群（名额十分有限，先到先得）\n \nDear Alumni,\nTo end 2021 on a jolly note, we invite you to a Christmas gathering on Dec 15th, Wednesday.\nTime: 19:00 – 22:00 (or later), local time\nLocation: La Maison, No. 210 Jinxian Lu, Huangpu, Shanghai, China\nProgram: French wine tasting & etiquette workshop, plus cocktail free networking (drinks and food provided).\nFee: Audencia Alumni is taking care of the event expense, each participant only need to pay 30 RMB to guarantee his/her presence.\nTo register: scan the QR code and join the group (places are very limited, first come first served)\n \n\nProblem registering? Or other questions? Send an email to tcliu@audencia.com 
BEGIN:VALARM
ACTION:DISPLAY
TRIGGER:-PT60M
DESCRIPTION:Christmas Party in Shanghai
END:VALARM
END:VEVENT
END:VCALENDAR