BEGIN:VCALENDAR
VERSION:2.0
X-WR-TIMEZONE:Europe/Paris
PRODID:-//Audencia//NONSGML v1.0//EN
CALSCALE:GREGORIAN
BEGIN:VEVENT
SUMMARY:InterCulturalFestival #2: Bigger, better, stronger!
DTSTART:20171121T163000
DTEND:20171121T200000
UID:111
DTSTAMP:20260425T205854
LOCATION:Forum Audencia Atlantic Campus 8 route de la Joneliere - Nantes
DESCRIPTION:Spread the word: the InterCultural Festival is back by popular demand.\n\n\n\nThere is something for everyone at ICF: it's an opportunity for students, alumni and staff from all horizons to showcase their country their region, their talent, their food. Participate actively in this event by organising entertainment (workshop, songs, dances, etc.) or simply come along to discover different cultures and share the fun and the food!\n \nTuesday 21st November\nfrom 16.30 to 20.00\nat the Forum\n\nRegister here on TOGETHER to make sure you have your place.\nIf you would like to sing, dance or organise an event as part of ICF#2, contact Prathiba, IMM student, who is part of the organisation team!\n\nFeel free to share this event and see you there!
BEGIN:VALARM
ACTION:DISPLAY
TRIGGER:-PT60M
DESCRIPTION:InterCulturalFestival #2: Bigger, better, stronger!
END:VALARM
END:VEVENT
END:VCALENDAR