BEGIN:VCALENDAR
VERSION:2.0
X-WR-TIMEZONE:Europe/Paris
PRODID:-//Audencia//NONSGML v1.0//EN
CALSCALE:GREGORIAN
BEGIN:VEVENT
SUMMARY:Career Center Webinar : How to manage your stress and build your resilience ?
DTSTART:20211125T183000
DTEND:20211125T193000
UID:1107
DTSTAMP:20260425T205953
LOCATION:
DESCRIPTION:\n\nThe Audencia career centre brings to you our latest webinar for the MBA Community:\n\nIn this workshop you we will discuss:\n\no  The definition of stress from a neuroscience perspective\n\no   Impact of stress on your body and mind\n\no   Tools and keys for stress management and find balance\n\no   How to access into your untapped inner resources and find your assets to manage stress\n\no   Long term remedies to manage stress and build resilience using experts in the field (Boris Cyrulnik, Jon Kabat Zinn (MBSR), Eckart Tollé, Carol Dweck, Don Miguel Ruiz)\n\nZoom link sent by email the day of the webinar\n 
BEGIN:VALARM
ACTION:DISPLAY
TRIGGER:-PT60M
DESCRIPTION:Career Center Webinar : How to manage your stress and build your resilience ?
END:VALARM
END:VEVENT
END:VCALENDAR