BEGIN:VCALENDAR
VERSION:2.0
X-WR-TIMEZONE:Europe/Paris
PRODID:-//Audencia//NONSGML v1.0//EN
CALSCALE:GREGORIAN
BEGIN:VEVENT
SUMMARY:Paris: découverte & expérience autour du café
DTSTART:20211127T100000
DTEND:20211127T133000
UID:1106
DTSTAMP:20260425T210054
LOCATION:26 Rue de Crussol 75011 Paris
DESCRIPTION:Venez retrouver Diana Garces, diplômée MSc FAM 2018 et fondatrice de Café Los Andes pour une séance de découverte autour du café le samedi 27 novembre de 10:00 à 13:30 au 26 rue de Crussol, 75011 Paris\n \n\n	Music set par @elsofritodelviernes\n	Pâtisserie inspiré au café imaginez par @ladivinegourmandise_\n	Galerie photographique par @chinoromerohoyos\n	Et une dégustation inédite de nos cafés\n\n\nNous vous attendons avec beaucoup d'amour et de café !\n \nÉvénement gratuit sur présentation de cette invitation ou 5€ sur place\nInscription obligatoire\n\nCafé Los Andes, c'est:\n\n\n \n☕️ Café de spécialité | 100% Arabica\n? Agriculture responsable\n?? Torréfaction artisanale\n#goodcoffeemovement\nwww.losandescoffee.com
BEGIN:VALARM
ACTION:DISPLAY
TRIGGER:-PT60M
DESCRIPTION:Paris: découverte & expérience autour du café
END:VALARM
END:VEVENT
END:VCALENDAR