BEGIN:VCALENDAR
VERSION:2.0
X-WR-TIMEZONE:Europe/Paris
PRODID:-//Audencia//NONSGML v1.0//EN
CALSCALE:GREGORIAN
BEGIN:VEVENT
SUMMARY:Conférence théâtralisée - Cancer et Compétences
DTSTART:20211118T100000
DTEND:20211118T120000
UID:1105
DTSTAMP:20260425T210009
LOCATION:Atlantic_campus 8 Route de la Jonelière Nantes
DESCRIPTION:La Conférence théâtralisée "Cancer et Compétences" a été spécialement créé en 2021 par la Ligue Contre le Cancer, dont Audencia a récemment signé la charte.\n\nIl s'agit d'une conférence théâtralisée qui vise à expliquer comment accompagner les salariés malades pour éviter des situations difficiles en entreprise. Elle alterne conférence et scènes inspirées de situations réelles. \n\nDanièle Piat, chargée de mission Lig’Entreprises, décryptera six scénettes jouées par deux comédiens professionnels, illustrant des situations concrètes dans le milieu professionnel, avant un temps d’échanges avec le public. \n\nL’objectif est de sensibiliser les collaborateurs et les étudiants – futurs managers – aux enjeux humains, sociaux et organisationnels du maintien ou du retour à l’emploi des personnes atteintes d’un cancer. \nS'inscrire\n\n\n\nAfin de vous accueillir dans les meilleures conditions, veuillez noter que le Pass Sanitaire est obligatoire pour accéder à cet événement.\n\nChaque personne devra fournir son Pass Sanitaire qui consiste en la présentation, numérique ou papier, d'une preuve sanitaire dont voici la liste :\n\n\n	La vaccination, à la condition de disposer d'un schéma vaccinal complet (les deux doses avec un délai de 7 jours après la deuxième injection)\n	La preuve d'un test PCR ou antigénique négatif de moins de 72h\n	Le résultat d'un test PCR positif (attestant du rétablissement du Covid-19) datant d'au moins 11 jours et de moins de 6 mois\n\nPlus d'informations sur le Pass Sanitaire\n \nPar ailleurs, le port du masque est obligatoire à Atlantic_campus.\n\nPour toute question, nous vous invitons à contacter le pôle Events d'Audencia : events@audencia.com\n\nAu plaisir de vous accueillir, 
BEGIN:VALARM
ACTION:DISPLAY
TRIGGER:-PT60M
DESCRIPTION:Conférence théâtralisée - Cancer et Compétences
END:VALARM
END:VEVENT
END:VCALENDAR