BEGIN:VCALENDAR
VERSION:2.0
X-WR-TIMEZONE:Europe/Paris
PRODID:-//Audencia//NONSGML v1.0//EN
CALSCALE:GREGORIAN
BEGIN:VEVENT
SUMMARY:Table ronde Sens Fiction
DTSTART:20211130T193000
DTEND:20211130T230000
UID:1104
DTSTAMP:20260425T205902
LOCATION:Lieu Unique 2 Rue de la Biscuiterie  Nantes
DESCRIPTION:Audencia, en tant que partenaire de l'exposition Sens Fiction - quand la fiction augure des usages - vous invite à visiter l'exposition et à participer à une table ronde le mardi 30 novembre 2021 autour de la thématique : Penser le monde de demain au Lieu Unique à Nantes.\n\nIntervenants*:\n\n\n	Ramy FISCHLER : Commissaire de l’exposition - Designer et directeur de création - RF Studio\n	Nicolas MINVIELLE : Commissaire associé de l’exposition - Professeur - Audencia\n\n* D'autres intervenants viendront apporter leurs témoignages.\n\nEn amont de la table ronde, de 18h00 à 19h30, vous êtes invités à découvrir l'exposition à travers une visite guidée et plus particulièrement la fiction Gaïa, réalisée en partenariat avec Audencia. Le récit portera sur la création d'un nouvel établissement pédagogique intégralement dédié à la formation managériale au profit des enjeux écologiques et du développement durable. \n\nPour clôturer la soirée, nous nous retrouverons autour d'un cocktail en compagnie des intervenants.\n\nS'inscrire\n\n\nSens Fiction\n\n \nProposée par le studio de design français RF Studio et son Bureau des usages, Sens Fiction enquête sur les apports de la fiction dans l'anticipation des usages. Cette exposition montre l'approche du designer au service d'imaginaires désirables.\nŒuvres littéraires, cinématographiques et projets de designers sont mis en relation et révèlent notre rapport au monde, notamment face aux innovations technologiques.\n\n\nAfin de vous accueillir dans les meilleures conditions, veuillez noter que le Pass Sanitaire est obligatoire pour accéder à cet événement.\n\nChaque personne devra fournir son Pass Sanitaire qui consiste en la présentation, numérique ou papier, d'une preuve sanitaire dont voici la liste :\n\n\n	\n	La vaccination, à la condition de disposer d'un schéma vaccinal complet (les deux doses avec un délai de 7 jours après la deuxième injection)\n	\n	\n	La preuve d'un test PCR ou antigénique négatif de moins de 72h\n	\n	\n	Le résultat d'un test PCR positif (attestant du rétablissement du Covid-19) datant d'au moins 11 jours et de moins de 6 mois\n	\n\n\nPlus d'informations sur le Pass Sanitaire\n\nPar ailleurs, le port du masque est obligatoire au Lieu Unique.\n\n\nPour toute question, nous vous invitons à contacter le pôle Events d'Audencia : events@audencia.com\n \n\nAu plaisir de vous accueillir, 
BEGIN:VALARM
ACTION:DISPLAY
TRIGGER:-PT60M
DESCRIPTION:Table ronde Sens Fiction
END:VALARM
END:VEVENT
END:VCALENDAR