BEGIN:VCALENDAR
VERSION:2.0
X-WR-TIMEZONE:Europe/Paris
PRODID:-//Audencia//NONSGML v1.0//EN
CALSCALE:GREGORIAN
BEGIN:VEVENT
SUMMARY:Conference on addressing crucial challenges in Latin America
DTSTART:20211111T160000
DTEND:20211111T170000
UID:1103
DTSTAMP:20260425T211243
LOCATION:
DESCRIPTION:\nHow do Latin American progressive leaders think we should address the most crucial challenges faced by the region?\n\nJoin Audencia's Guilherme Azevedo, Associate Professor of Business & Society, who will be addressing this question during his keynote speech at the América Economia’s ‘Foro Multilatinas.’ During his speech, Guilherme will report on recent research developed with his colleagues Jorge Carneiro, Carlos Rodriguez, and Maria Alejandra Gonzalez-Perez.\n\nDate: Wednesday 11 November\nTime: 10:00 in Colombia | 12:00 in Argentina | 16:00 in France\n\nThe event is online and free.\n \nRegister here\n \n\n
BEGIN:VALARM
ACTION:DISPLAY
TRIGGER:-PT60M
DESCRIPTION:Conference on addressing crucial challenges in Latin America
END:VALARM
END:VEVENT
END:VCALENDAR