BEGIN:VCALENDAR
VERSION:2.0
X-WR-TIMEZONE:Europe/Paris
PRODID:-//Audencia//NONSGML v1.0//EN
CALSCALE:GREGORIAN
BEGIN:VEVENT
SUMMARY:Conférence: Transformer durablement son business model pour créer un impact positif
DTSTART:20211118T183000
DTEND:20211118T200000
UID:1102
DTSTAMP:20260425T205735
LOCATION:
DESCRIPTION:Face à l’urgence sociale et environnementale, les entreprises doivent transformer leurs modèles économiques et leur gouvernance pour améliorer les impacts de leurs activités sur l’ensemble de leurs parties prenantes. Mais comment ? Comment opérer concrètement et de façon pérenne cette transformation durable ?\n\n\nParticipez à notre conférence "Transformer durablement son business model pour créer un impact positif", animée par André Sobczak, titulaire de la Chaire Impact Positif, qui mène une étude qui vise à inspirer les acteurs de la transformation durable dans les entreprises et organisations et met en avant la diversité des approches dans les études de cas et identifie les principaux leviers et les facteurs clés de succès.\n\nAprès un temps d'échange avec notre expert, vous pourrez en savoir plus sur notre Certificat Graines d'Impact présenté par nos 2 diplômés Executive MBA qui l'ont élaboré, "ce certificat c'est 7 jours pour étudier l’entreprise du 21ème siècle, décrypter les transitions en cours, appréhender les contours de l'entreprise à impact, son cadre légal, comptable, organisationnel et les clés pour faire bouger un Codir" expliquent Guillaume Vichot et Antoine Guyot (Exec-MBA 2020), faisant partie du collectif Semeurs d'Impact.\n \n\nJe m'inscris
BEGIN:VALARM
ACTION:DISPLAY
TRIGGER:-PT60M
DESCRIPTION:Conférence: Transformer durablement son business model pour créer un impact positif
END:VALARM
END:VEVENT
END:VCALENDAR