BEGIN:VCALENDAR
VERSION:2.0
X-WR-TIMEZONE:Europe/Paris
PRODID:-//Audencia//NONSGML v1.0//EN
CALSCALE:GREGORIAN
BEGIN:VEVENT
SUMMARY:Afterwork in Berlin, Germany
DTSTART:20211109T193000
DTEND:20211109T213000
UID:1101
DTSTAMP:20260425T210146
LOCATION:260° Grad Rooftop bar Mühlenstraße 1 10243 Berlin
DESCRIPTION:A l'occasion de la learning trip à Berlin de la promo Executive MBA, ambassadeur Paul Lemaître a le plaisir de convier les alumni berlinois à un afterwork:\n\nMardi 9 novembre 2021\nDe 19h30 à 21h30\nAu 260° Grad Rooftop bar, Mühlenstraße 1, 10243 Berlin\n 
BEGIN:VALARM
ACTION:DISPLAY
TRIGGER:-PT60M
DESCRIPTION:Afterwork in Berlin, Germany
END:VALARM
END:VEVENT
END:VCALENDAR