BEGIN:VCALENDAR
VERSION:2.0
X-WR-TIMEZONE:Europe/Paris
PRODID:-//Audencia//NONSGML v1.0//EN
CALSCALE:GREGORIAN
BEGIN:VEVENT
SUMMARY:Dîner LOCAVORE à Nantes
DTSTART:20171123T190000
DTEND:20171123T220000
UID:110
DTSTAMP:20260425T205821
LOCATION:
DESCRIPTION:L'Heure Nantaise à la ferme :\ncocktail dinatoire réseau\n\n \n\nNous vous attendons nombreux pour cet événement convivial, préparé par L'Heure Nantaise qui organise des événements pour vous faire découvrir des initiatives innovantes et responsables dans la région pour Audencia Alumni.\n \n\nDéveloppez votre Réseau tout en régalant vos papilles...\n\n\n	\n	​11 bouchées réalisées avec des produits locaux et/ ou issus de l'agriculture biologique (cf menu plus bas).\n	\n	\n	Un lieu recommandé par Le Petit Futé 2017 et réputé pour la qualité de ses produits et préparations, proposées dans un cadre dépaysant à 10 min du centre ville de Nantes. Salle privatisée spécialement pour les Alumni.\n	\n\n \n\nDécouvrez le projet entrepreneurial de Jacky Petiz (Exec MBA 07)...\n\n\n	qui commercialise des galettes et burgers végétaux, bios et artisanaux, produits à Gétigné (44).\n	 \n	\n\n\nPour permettre au restaurant de commander les justes quantités et éviter le gaspillage, les inscriptions seront clôturées le 20 novembre.\n\nRéservez dès maintenant !\n \n\nMENU  (bouchées & verrines)\n \n\n\n	Toast de foie gras de canard\n	Verrine de légumes de saisons \n	Raviole de butternut \n	Mini chou garni de truite fumée \n\n \n\n\n	Brochette de porc fermier\n	Samosas épicés\n\n \n\n\n	Galette de blé noir au fromage frais\n	Tome de vache\n\n\n \n\n\n	Tatin pommes / poires\n	Petit cheese cake au citron vert\n	Riz au lait entier au caramel au beurre salé \n\n \n\nAccompagnées de vins bios et locaux, cidre fermier, pur jus de fruits, eaux plate et gazeuse.\n\n \n\n\n\n\n\n"Vous reviendrez pour la carte gourmande et furieusement efficace de Christine Tessier. Travaillant exclusivement à partir de produits locaux et de saison, cette ancienne animatrice de l'association Terroirs 44 s'appuie sur un réseau de fournisseurs triés sur le volet. La qualité des matières premières est une préoccupation constante de la restauratrice, et ça se sent ! Fraîcheur oblige, les propositions changent au fil de l'année."\n\n 
BEGIN:VALARM
ACTION:DISPLAY
TRIGGER:-PT60M
DESCRIPTION:Dîner LOCAVORE à Nantes
END:VALARM
END:VEVENT
END:VCALENDAR