BEGIN:VCALENDAR
VERSION:2.0
X-WR-TIMEZONE:Europe/Paris
PRODID:-//Audencia//NONSGML v1.0//EN
CALSCALE:GREGORIAN
BEGIN:VEVENT
SUMMARY:Networking in Bengaluru, India
DTSTART:20170310T180000
DTEND:20170310T210000
UID:11
DTSTAMP:20260425T205841
LOCATION:SVKM's Narsee Monjee Institute of Management Studies 11, Kaveri Regent Coronet, 3rd Block, 7th Main, 80 feet Road, Koramangala, Bengaluru 560034 India
DESCRIPTION:AMBA, the Association of MBAs, is organising a networking event.\n\nJoin them in Bengaluru on Friday 10 March between 18.00 and 21.00 to network with students and graduates of AMBA-accredited programmes.\nRegister for free today >>\n\nLocation: SVKM's Narsee Monjee Institute of Management Studies\nDate: 10 March 2017\nTime: 18.00 to 21.00\n\nAddress: 11, Kaveri Regent Coronet\n3rd Block, 7th Main, 80 feet Road\nKoramangala, Bengaluru\nKarnataka 560034, India\n\nThis event is aimed at alumni of AMBA-accredited programmes. At Audencia, these programmes are: Executive MBA, MBA in Responsible Management and Master in Management (Grande Ecole Programme). The event is free for AMBA members but registration is required. Registering as an alumus/alumna of an AMBA-accredited programme takes only a few minutes.\nGo to www.mbaworld.com/communitysignup \n\n	complete your personal details\n	select ‘Graduate’ from the ‘I am a’ drop down\n	select your Business School\n	enter the following access key: G25912\n\nOnce you have registered as an AMBA alum, you can register for the event.\n\nIf you have any questions about registering, please contact the AMBA Membership Team who will be happy to help.\n 
BEGIN:VALARM
ACTION:DISPLAY
TRIGGER:-PT60M
DESCRIPTION:Networking in Bengaluru, India
END:VALARM
END:VEVENT
END:VCALENDAR