BEGIN:VCALENDAR
VERSION:2.0
X-WR-TIMEZONE:Europe/Paris
PRODID:-//Audencia//NONSGML v1.0//EN
CALSCALE:GREGORIAN
BEGIN:VEVENT
SUMMARY:Christmas Party in Hong Kong
DTSTART:20211206T130000
DTEND:20211206T170000
UID:1097
DTSTAMP:20260425T210011
LOCATION:The Daily Tot, G/F, Shop E, Felicity Building, 58 Hollywood Road, Central, Hong Kong
DESCRIPTION:Towards the end of the year, Audencia Alumni invite you to a festive gathering at The Daily Tot Hong Kong. \n\nThis will be the last event of 2021, looking forward to seeing you! 
BEGIN:VALARM
ACTION:DISPLAY
TRIGGER:-PT60M
DESCRIPTION:Christmas Party in Hong Kong
END:VALARM
END:VEVENT
END:VCALENDAR