BEGIN:VCALENDAR
VERSION:2.0
X-WR-TIMEZONE:Europe/Paris
PRODID:-//Audencia//NONSGML v1.0//EN
CALSCALE:GREGORIAN
BEGIN:VEVENT
SUMMARY:Webinar: membership benefits for students & alumni of AMBA-accredited programmes
DTSTART:20211104T160000
DTEND:20211104T164500
UID:1096
DTSTAMP:20260425T210143
LOCATION:
DESCRIPTION:AMBA’s global membership is composed of MBA, MBM* and DBA students and graduates from the top 1.68% of Business Schools in the world. \n\nBy joining AMBA, you will instantly be part of an international, professionally diverse network of more than 45,000 members. From those in their first week of study, to experienced and senior business leaders, this buoyant network harnesses the expertise of the MBA community to share insights and thought leadership, create business networking opportunities and amplify the collective voice of MBAs all around the world. \n\nJoin AMBA membership manager, Tariro Masukume, via Teams on Thursday 4 November from 16:00 to 16:45 for an overview of the AMBA membership programme and benefits.\n \nFollow this link (Teams) to attend\n\nBasic membership is completely free of charge for eligible applicants from AMBA-accredited programmes!\n\n*MBM = Master in Management, Audencia's Grande Ecole programme
BEGIN:VALARM
ACTION:DISPLAY
TRIGGER:-PT60M
DESCRIPTION:Webinar: membership benefits for students & alumni of AMBA-accredited programmes
END:VALARM
END:VEVENT
END:VCALENDAR