BEGIN:VCALENDAR
VERSION:2.0
X-WR-TIMEZONE:Europe/Paris
PRODID:-//Audencia//NONSGML v1.0//EN
CALSCALE:GREGORIAN
BEGIN:VEVENT
SUMMARY:Challenge du startupper de l'année en Côte d'Ivoire
DTSTART:20211223T000000
DTEND:20211223T235900
UID:1095
DTSTAMP:20260425T210022
LOCATION:Abidjan Côte d'Ivoire
DESCRIPTION:Fabien Voisin, GE 97 et Directeur Général de TotalEnergies en Côte d'Ivoire, vient de lancer officiellement en Côte d'Ivoire le challenge #Startupper de l'année.\n\nDu 4 novembre au 23 décembre, les jeunes de moins de 35 ans pourront déposer leurs dossiers sur la plateforme https://startupper.totalenergies.com/fr et compétir pour :\n- le meilleur projet de création d'entreprise\n- la meilleure startup de moins de 3 ans\n- la meilleure entrepreneuse\n\nA la clé, 5 millions de francs CFA par catégorie, une exposition médiatique et un accompagnement.\nCette année, pour cette 3ème édition, TotalEnergies met en avant le développement durable, les lauréats devant se référer un un ou plusieurs objectifs de développement durables ratifiés par les Nations Unies.\n\nEntrepreneurs et entrepreneuses, faites preuve d'énergie et démontrez-nous votre talent !\n \n
BEGIN:VALARM
ACTION:DISPLAY
TRIGGER:-PT60M
DESCRIPTION:Challenge du startupper de l'année en Côte d'Ivoire
END:VALARM
END:VEVENT
END:VCALENDAR