BEGIN:VCALENDAR
VERSION:2.0
X-WR-TIMEZONE:Europe/Paris
PRODID:-//Audencia//NONSGML v1.0//EN
CALSCALE:GREGORIAN
BEGIN:VEVENT
SUMMARY:French-Chinese Month of Environment Webinar: Sustainability Practices in Building Construction and E-Commerce
DTSTART:20211115T120000
DTEND:20211115T130000
UID:1094
DTSTAMP:20260425T210325
LOCATION:
DESCRIPTION:\n\nDear Alumni,\n\nAt the end of the 2021 French-Chinese Month of Environment, we are pleased to provide you with this webinar focused on the sustainability practices in building construction and e-commerce. \n\nTopics include but are not limited to the following: \n\n- The race to zero emissions, AKA “Carbon Neutrality”\n- The environmental impact of the building sector\n- What can be done? The Benefits of Green Buildings \n- Main trends after COVID-19 in the building sector\n- The change of business foundation in China under new international relation background\n- New business trend in China after COVID-19\n- What has been done and could be done at the company level\n\nWe encourage you to send your questions beforehand to tcliu@audencia.com. There is also a Q&A section at the end of the webinar where you can raise your question(s) freely.\n\nInformation\nDate: Monday, November 15th, 2021\nTime: 19:00-20:00 in China / 12:00-13:00 in France\nLanguage: English\nVenue: Online, click here to join us on time\n\nSpeakers\n\n\n\nManuel RAMOS, EMP-MBA 2006\n\nAsia General Manager @ Terao\n\nInternational Executive with 15 years of professional experience in China including 9 years in the building industry. Former board member of the EUCCC Shanghai Chapter & Environmental Working Group, Chairman of the French Chamber of Commerce in China. Committed to leading Terao’s mission, which is helping mitigate climate change through its expertise in the building sector.\n\n\n\nAlex Lin YUAN, MBA 2019\n\nFounder and CEO @ ENT (Elephant Northward Technology)\n\nOver 16 years of professional sales and sales management experience in different industries with a focus on sustainability for more than 12 years. Former Greater China Sales Director at Groupe Pierre & Vacances CenterParcs, skilled at setting up bespoken business module, from strategy to implementation. 
BEGIN:VALARM
ACTION:DISPLAY
TRIGGER:-PT60M
DESCRIPTION:French-Chinese Month of Environment Webinar: Sustainability Practices in Building Construction and E-Commerce
END:VALARM
END:VEVENT
END:VCALENDAR