BEGIN:VCALENDAR
VERSION:2.0
X-WR-TIMEZONE:Europe/Paris
PRODID:-//Audencia//NONSGML v1.0//EN
CALSCALE:GREGORIAN
BEGIN:VEVENT
SUMMARY:CCI France Chine Webinar: Communication & Marketing Working Group: Behind the scenes of Live Streaming & Private Traffic
DTSTART:20211118T113000
DTEND:20211118T130000
UID:1093
DTSTAMP:20260425T210122
LOCATION:
DESCRIPTION:Introduction: \nPrivate Traffic and Live Streaming have become such powerful tools that e-commerce marketplaces are using them to engage with their consumers. In this event, we will do a short recap of 11.11 trends, and will deep dive behind the scenes of the two most disruptive practices in the past months. We will see how brands like Maybelline, Nestle, and local beauty brand Afu operate their private traffic, and how a company like JD.com can generate more than 40m Gross Merchandise Value through Private Traffic. We will also explore what it takes to do successful live streaming events with KOLs, with concrete cases from brands.\n\nSpeaker: \nAlan\nFounder of Jimo, an MBA Distinguished Entrepreneurship Tutor of Beijing University of Aeronautics and Astronautics & Forbes China's 30 under 30 in the "advertising and marketing industry". He is also a published author of the book "Redefine internet operation". Jimo consults, trains, and manages brands' live streaming & private traffic. They currently handle a community of 700,000 WeChat users on private traffic. Their clients include IQiYi, BestSeller, WeCom, and more. \n\nDate: Thursday, November 18th\nTime: 18:30 - 20:00 in China / 11:30 - 13:00 in France\nFees: Free for CCI FRANCE CHINE Members & Audencia Alumni\nLocation: Webinar\nLanguage: English\nRegistration: Scan the following QR code\n
BEGIN:VALARM
ACTION:DISPLAY
TRIGGER:-PT60M
DESCRIPTION:CCI France Chine Webinar: Communication & Marketing Working Group: Behind the scenes of Live Streaming & Private Traffic
END:VALARM
END:VEVENT
END:VCALENDAR