BEGIN:VCALENDAR
VERSION:2.0
X-WR-TIMEZONE:Europe/Paris
PRODID:-//Audencia//NONSGML v1.0//EN
CALSCALE:GREGORIAN
BEGIN:VEVENT
SUMMARY:3ème édition de L'éloquence du Bégaiement
DTSTART:20211123T193000
DTEND:20211123T223000
UID:1092
DTSTAMP:20260425T210151
LOCATION:Théatre Bobino 20, rue de la Gaîté; Paris 14e France
DESCRIPTION:Mounah Bizri (GE 2017) est actuellement consultant en stratégie et également fondateur de handicapossible.com.\n\nEn 2014, il a tenté le concours d’éloquence d'Audencia, devant 100 personnes malgré son bégaiement sévère. Il voulait se dépasser pour faire de son bégaiement son allié plutôt que son ennemi. De cette expérience est née l’Eloquence du Bégaiement.\n\nEn alliant techniques de rhétorique, de communication et d’affirmation de soi, L’Eloquence du Bégaiement est le premier concours d’éloquence destiné aux personnes bègues. C'est un projet innovant porté par l’Association Parole Bégaiement et créé par Juliette Blondeau et Mounah Bizri.\n\nL’équipe pluridisciplinaire organisatrice de l’éloquence du bégaiement (orthophonistes, bègues, étudiants sensibilisés au handicap, professionnels de l’éloquence) permet aux candidats de mettre en avant leur potentiel et d’accomplir ce qu’on croit impossible : être bègue et orateur. Tout devient possible grâce aux valeurs de dépassement et d'amour de soi qui font l'identité forte du projet.\n\nLa finale de la 3ème édition de ce projet hors du commun aura lieu le 23 Novembre 2021 à 19h30 au théâtre Bobino\n\nInscriptions au lien ci-après : https://www.eventbrite.fr/e/billets-finale-eloquence-du-begaiement-2021-192671976067?aff=ebdssbdestsearch\n\nInformations complémentaires : https://www.begaiement.org/eloquence/
BEGIN:VALARM
ACTION:DISPLAY
TRIGGER:-PT60M
DESCRIPTION:3ème édition de L'éloquence du Bégaiement
END:VALARM
END:VEVENT
END:VCALENDAR