BEGIN:VCALENDAR
VERSION:2.0
X-WR-TIMEZONE:Europe/Paris
PRODID:-//Audencia//NONSGML v1.0//EN
CALSCALE:GREGORIAN
BEGIN:VEVENT
SUMMARY:Club Finance - Présentation du livre "La Finance Verte"
DTSTART:20211029T093000
DTEND:20211029T110000
UID:1091
DTSTAMP:20260425T210005
LOCATION:AgroParisTech 16 Rue Claude Bernard 75005 Paris
DESCRIPTION:Cet événement vous invite découvrir un ouvrage qui explique concrètement ce qu’est la finance verte et quels sont ses outils. Il apporte un panorama global des enjeux, utile pour les étudiants comme pour les professionnels.\n\nCet événement sera retransmis en ligne.\n\n \n\nOuverture :\n\n- Natacha Boric, Responsable des contenus et publications, Finance for Tomorrow\n\n- Alexandre Rambaud, Maitre de conférences à AgroParisTech - CIRED\n\n \n\nPrésentation de l'ouvrage :\n\n- Noam Leandri, Secrétaire Général de l'Agence de la Transition Ecologique (ADEME)\n\n- Julie Ansidei, Responsable de l’unité « Stratégie et finance durable » de l’Autorité des marchés financiers (AMF)\n\n \n\nLa présentation sera suivie d'un temps de discussion ouvert avec l'audience.\n\n \n\nL’ambition est que le livre "La Finance Verte" devienne un ouvrage de référence pour les étudiants en économie, finance et gestion qui doivent dorénavant intégrer les enjeux du développement durable.\n\nLa finance verte connaît un essor considérable depuis la COP21 et l’Accord de Paris. Le foisonnement de projets et d’initiatives justifie cette synthèse sur les principaux instruments de cette nouvelle finance, confrontée au risque climatique. Elle en présente les développements les plus récents, tels que les green bonds, les marchés de permis d’émission, le rôle des banques centrales, le reporting et les stress tests. \n\nClair et accessible, il répondra aux questions de professionnels du secteur et des décideurs publics, voire du grand public qui s’interroge sur le rôle du secteur financier en faveur d’un développement économique plus respectueux de l’environnement.\n\nINSCRIPTIONS ?? https://bit.ly/3nwpVjF
BEGIN:VALARM
ACTION:DISPLAY
TRIGGER:-PT60M
DESCRIPTION:Club Finance - Présentation du livre "La Finance Verte"
END:VALARM
END:VEVENT
END:VCALENDAR