BEGIN:VCALENDAR
VERSION:2.0
X-WR-TIMEZONE:Europe/Paris
PRODID:-//Audencia//NONSGML v1.0//EN
CALSCALE:GREGORIAN
BEGIN:VEVENT
SUMMARY:Club Culture & Management - cycle international 1/2 : restitution des œuvres : quelles conditions et modalités de mise en œuvre ?
DTSTART:20211117T190000
DTEND:20211117T210000
UID:1087
DTSTAMP:20260425T210026
LOCATION:Fondation Pernod Ricard 1 Cours Paul Ricard 75008 Paris
DESCRIPTION:Emmanuel Macron a déclaré, à Ouagadougou, au Burkina Faso, le 28 novembre 2017, à l’occasion d’un grand discours sur les enjeux qui attendent l’Afrique au XXIe siècle : « Je ne peux pas accepter qu’une large part du patrimoine culturel de plusieurs pays africains soit en France (...). Il y a des explications historiques à cela, mais il n’y a pas de justification valable, durable et inconditionnelle, le patrimoine africain ne peut pas être uniquement dans des collections privées et des musées européens. (…) Je veux que d’ici cinq ans les conditions soient réunies pour des restitutions temporaires ou définitives du patrimoine africain en Afrique. ».\n\nA suivi, un an plus tard, en novembre 2018, un rapport par l’historienne de l’art Bénédicte Savoy et l’économiste Felwine Sarr préconisant que tout objet emporté sans le consentement explicite de son propriétaire ou gardien doit être restitué aux pays africains qui en font la demande. Une loi a été adoptée par l’Assemblée Nationale en décembre 2020 pour permettre des premières restitutions d'œuvres au Sénégal et au Bénin (pour 26 œuvres prises en 1892 au palais d’Abomey). Dans le sillage de l’annonce du président français, de multiples initiatives et réflexions ont été initiées ailleurs en Europe, en particulier en Belgique, aux Pays-Bas, Allemagne et Angleterre.\nCe mouvement soulève de nombreuses questions et enjeux de faisabilité, pour assurer la concrétisation et la réussite de ces projets de restitutions. Ce débat tentera ainsi d'amener des éléments de réponse à la question suivante : Quelles conditions pour la mise en œuvre et la réussite des projets de restitution des oeuvres ?\n\nNous discuterons avec nos invités, en particulier, des conditions du point de vue juridique et du cadre légal, des conditions de conservation, d’accueil et d’expositions des œuvres, des attentes des pays et bénéfices des citoyens concernés par les restitutions, ainsi que des modalités de coopération internationale et modes de financement associés.\n \n\nNos intervenants apporteront leur éclairage sur les enjeux de faisabilité, les modalités de coopération internationale et les modes de financement associés :\n\n\n	\n	Marie Escot, responsable des relations internationales au Musée du quai Branly\n	\n	\n	Alain Godonou, directeur du Programme Musées de l’Agence Nationale de promotion des Patrimoines et du Tourisme du Bénin\n	\n	\n	Yasmina Zian, docteure en histoire, rédactrice du rapport "L'avenir des collections extra-européennes", commandité par la  Fédération Wallonie-Bruxelles\n	 \n	\n\n\n\n\n\nModérateurs\n\n\n	Elias LECOCQ\n	Praxis & Culture Conseil/Consultant, Délégué Audencia c&m\n\n\n\nMODALITÉS D'ACCUEIL EN PRÉSENTIEL :\n\n- les débats commencent à 19h, l'accueil se fait à partir de 18h30\n- si vous bénéficiez d'un tarif spécial (tarif demandeur d'emploi ou tarif étudiant à 15€), vous devrez nous présenter un justificatif de moins de 3 mois\n- la présentation d'un pass sanitaire valide ainsi que le port du masque durant le débat vous seront demandés\n\n \n\nAu plaisir de vous retrouver,\nL'équipe du Club Culture & Management\n\n \n\nRéservez votre place dès maintenant !
BEGIN:VALARM
ACTION:DISPLAY
TRIGGER:-PT60M
DESCRIPTION:Club Culture & Management - cycle international 1/2 : restitution des œuvres : quelles conditions et modalités de mise en œuvre ?
END:VALARM
END:VEVENT
END:VCALENDAR