BEGIN:VCALENDAR
VERSION:2.0
X-WR-TIMEZONE:Europe/Paris
PRODID:-//Audencia//NONSGML v1.0//EN
CALSCALE:GREGORIAN
BEGIN:VEVENT
SUMMARY:France Alumni: conférence sur le climat à Vienne, Autriche
DTSTART:20211021T173000
DTEND:20211021T203000
UID:1086
DTSTAMP:20260425T210052
LOCATION:Espace Markhof  Markhofgasse 19 1030 Vienne
DESCRIPTION:Le réseau France Alumni Autriche organise un événement sur le climat et le développement durable.\n\nDATE: JEUDI 21 OCTOBRE\nHEURE: 17:30 à 20:30\n\nN'oubliez pas de vous y inscrire si vous souhaitez y participer. Il est organisé conjointement par France Alumni Autriche, l'Institut français d'Autriche et le Cercle, avec le soutien de la Chambre de Commerce Franco-Autrichienne (CCFA) et de l'Organisation Internationale de la Francophonie (OIF). \n\nNous vous proposons de nous retrouver le jeudi 21 octobre à l'espace Markhof (Markhofgasse 19, 1030 Vienne) dès 17h30, pour une soirée qui se dévoilera comme suit :\n \n17:30-18:00 : accueil et enregistrement - règle des 2.5G\n18:00-19:00 : discussion sur les politiques d'aménagement du territoire et sur les budgets verts des villes de Paris et de Vienne, en compagnie d'Étienne Gonon-Pelletier (ville de Paris, en charge du budget vert) et Évelyne Dengler-Mahé (cofondatrice de l'association de guides Austria Guides for Future). La modération sera assurée par Vincent Delaplace (France Alumni Autriche - Institut français d'Autriche).\n19:00-19:30 : temps d'échange autour d'un pot convivial.\n19:30-20:30 : ateliers interactifs\n\nINSCRIPTION\n \n\nMerci de sélectionner votre atelier interactif de préférence lors de votre inscription:\n\n1. LA FRESQUE DU CLIMAT\nS’appuyant sur les résultats des travaux du GIEC (Groupe d'experts Intergouvernemental sur l'Évolution du Climat), cet atelier coopératif vous permettra de découvrir et de comprendre l’ensemble des enjeux propres au changement climatique. Atelier proposé par Katharina Haas - membre de la fresque du climat. https://fresqueduclimat.org/\n\n2. INVENTONS NOS VIES BAS-CARBONE\nComment atteindre l'objectif de neutralité carbone ? Cet atelier vous permettra de visualiser l'état d’avancement actuel vis-à-vis de cet objectif et les actions à réaliser pour l’atteindre. Atelier proposé par Louise Lapierre et Jean-Baptiste Dusson. https://www.resistanceclimatique.org/inventons_nos_vies...\n\n3. PLAS(T)OP\nQuelle est la quantité de plastique que nous générons en une journée ? Les bateaux dépollueurs ou les plastiques verts sont-ils la solution à ces émissions ? Cet atelier se propose une sensibilisation concrète à ces questions et est proposé par Christine Gandouin. https://www.aqtua.fr/plastop\n\n4. QUELS ÉCO-GESTES ADAPTER EN ENTREPRISE ?\nAu-delà de notre quotidien à la maison, c'est aussi au travail que nous pouvons réaliser des gestes pour limiter notre impact environnemental. Aymeric Régent, de l'entreprise Agrana, nous expliquera lors de cet atelier quels gestes et démarches peuvent être mis en place sur le lieu de travail.\n\nINSCRIPTION\n\nAu plaisir de vous y retrouver !\nBien à vous\n
BEGIN:VALARM
ACTION:DISPLAY
TRIGGER:-PT60M
DESCRIPTION:France Alumni: conférence sur le climat à Vienne, Autriche
END:VALARM
END:VEVENT
END:VCALENDAR