BEGIN:VCALENDAR
VERSION:2.0
X-WR-TIMEZONE:Europe/Paris
PRODID:-//Audencia//NONSGML v1.0//EN
CALSCALE:GREGORIAN
BEGIN:VEVENT
SUMMARY:CCI France Chine Webinar: How Tencent Cloud empowers global retailers to grow in China
DTSTART:20211026T100000
DTEND:20211026T110000
UID:1085
DTSTAMP:20260425T210031
LOCATION:
DESCRIPTION:Together with CCI FRANCE CHINE, it is our pleasure to invite you to this event addressing the challenges all business leaders must solve in the short and long term. These interesting case studies from all around China that used digital communication solutions will show you how international groups grow and expand their business during this challenging time.\nIntroduction\n \n\n2020 undoubtedly accelerated the adoption of smart retail solutions and technologies in the global retail industry. Even with easing restrictions and the re-opening of shopping malls consumers stay cautious and shift their shopping preferences. In a recent global study facilitated by Selligent 36% of all shoppers are now shopping online on a regular basis, which is an increase of 8% compared to pre-COVID-19. China, the most important growth market for many international consumers and luxury brands, is quickly adapting to the new situation and the ever-changing consumer preferences. China is leading the world’s smart retail revolution by building unique customer experiences that seamlessly connect the offline and online world.\n\nThe strong competition in the Chinese market requires retailers and brands to find new ways of communicating with their target audience online and offline. The incorporation of smart retail solutions enables them to build personalized shopping experiences, cater to the individual needs of their customers, and connect with them in many meaningful ways. \n\nTencent Cloud supports global retailers with implementing Big Data, AI, Payment, and automation solutions to create new customer experiences, streamline business processes, build a true omnichannel customer experience and improve supply chains.\n\nAgenda\n\nTencent Business Overview\nFocus on 3 platforms:\nSocial - WeChat, QQ\nDigital - WeCom\nContent platform - Media, Gaming, Music, Video\nHow Tencent Cloud helps customers to connect with people and to build private traffic Cases sharing: In-store intelligent devices + Walmart China\nQ&A\nSpeaker\n\n\n\nOskar Ablimit\n\nStrategic Business Development @ Tencent Cloud\n\nOskar Ablimit is responsible for Strategic Business Development in the western European region at Tencent Cloud Europe. He supports international customers with their digital transformation and connects them with Chinese end-users leveraging the Tencent ecosystem. Before joining Tencent at the beginning of 2021, he gained more than ten years of experience working for AWS and Alicloud. He gained professional experience in the cloud industry and holds associate and professional solution architect certifications from Tencent Cloud, AWS, and Alicloud. Oskar is currently participating in a master’s program for Engineering in Cloud Computing Management focusing on cloud security at George Washington University.\n\nKey Infomation \n\nDate: Tuesday, October 26th\nTime: 16:00 - 17:00 in China / 10:00 - 11:00 in France\nFees: Free \nLocation: Webinar\nLanguage: English\nRegistration: Scan the following QR code\n\n
BEGIN:VALARM
ACTION:DISPLAY
TRIGGER:-PT60M
DESCRIPTION:CCI France Chine Webinar: How Tencent Cloud empowers global retailers to grow in China
END:VALARM
END:VEVENT
END:VCALENDAR