BEGIN:VCALENDAR
VERSION:2.0
X-WR-TIMEZONE:Europe/Paris
PRODID:-//Audencia//NONSGML v1.0//EN
CALSCALE:GREGORIAN
BEGIN:VEVENT
SUMMARY:Conférence/Débat Jean-Jacques Brot
DTSTART:20211020T183000
DTEND:20211020T200000
UID:1084
DTSTAMP:20260425T210145
LOCATION:Audencia 8 route de la Jonelière 44300 Nantes
DESCRIPTION:L'association Isegoria a le plaisir de vous inviter à sa conférence de rentrée. Elle sera animée par Jean-Jacques Brot, préfet des Yvelines sur le thème :\n \n\nServir la France : une terre d'accueil ?\n \n\nJean-Jacques Brot est, depuis 2018, préfet des Yvelines.\nS’il a d’abord effectué un bref passage aux affaires étrangères, il a ensuite exercé plusieurs fonctions dans les territoires de la métropole avant de devenir conseiller du Président Jacques Chirac. Il est ensuite nommé préfet dans les Outre-mer qu’il affectionne particulièrement, notamment à Mayotte, en Guadeloupe ou encore Haut-commissaire en Nouvelle-Calédonie. C’est d’ailleurs au titre de son expertise sur ses territoires qu’il intègre, en 2021, le comité scientifique de la Chaire Outre-Mer de Sciences Po Paris.\n\nEntre 2015 et 2017, il est chargé de la mission de coordination pour l’accueil des réfugiés syriens et irakiens. Il devient ensuite conseiller du Gouvernement pendant un an.\n\nNous aurons le plaisir d’échanger sur son parcours et d'aborder la gestion de la complexité des territoires et l'accueil des réfugiés.\n \n\nInscrivez-vous ?? https://bit.ly/3oX78QV
BEGIN:VALARM
ACTION:DISPLAY
TRIGGER:-PT60M
DESCRIPTION:Conférence/Débat Jean-Jacques Brot
END:VALARM
END:VEVENT
END:VCALENDAR